BEGIN:VCALENDAR
VERSION:2.0
PRODID:-//Body Heat - ECPv4.2.2//NONSGML v1.0//EN
CALSCALE:GREGORIAN
METHOD:PUBLISH
X-WR-CALNAME:Body Heat
X-ORIGINAL-URL:https://www.bodyheat.ca
X-WR-CALDESC:Events for Body Heat
BEGIN:VEVENT
DTSTART;VALUE=DATE:20190214
DTEND;VALUE=DATE:20190214
DTSTAMP:20260421T110645
CREATED:20190203
LAST-MODIFIED:20190203
UID:3642-1550102400-1550188799@www.bodyheat.ca
SUMMARY:Edmonton\, AB
DESCRIPTION:Please see our official Facebook event for more details:\nhttps://www.facebook.com/events/369880313773230/
URL:https://www.bodyheat.ca/schedule/3642/
LOCATION:615 Hermatitage Road NW\, Edmonton\, AB\, T5A4M2\, Canada
END:VEVENT
END:VCALENDAR