BEGIN:VCALENDAR
VERSION:2.0
PRODID:-//Body Heat - ECPv4.2.2//NONSGML v1.0//EN
CALSCALE:GREGORIAN
METHOD:PUBLISH
X-WR-CALNAME:Body Heat
X-ORIGINAL-URL:https://www.bodyheat.ca
X-WR-CALDESC:Events for Body Heat
BEGIN:VEVENT
DTSTART;TZID=UTC-7:20230211T200000
DTEND;TZID=UTC-7:20230211T233000
DTSTAMP:20260420T214348
CREATED:20230208T105016
LAST-MODIFIED:20230208T105631
UID:3675-1676145600-1676158200@www.bodyheat.ca
SUMMARY:Peace River Ladies’ Night
DESCRIPTION:Canada’s hottest exotic male entertainers – the men of Body Heat travel across Canada to put on the ultimate Ladies’ Night show. The guys go hard for you Saturday\, February 11th\, 2023 so you and your friends can get some action at Peace Valley Inns in the Emerald Room. Each sexy performer embodies a different female fantasy and brings your wildest dreams to reality. You wont be able to contain your enthusiasm for their choreographed dance routines and seductive moves. This interactive show is sure to be a a night to remember with games\, prizes \, playful humour and of course\, muscled men!!\nDoors Open@ 8:00 pm\nShow from 9:30 pm till 11:30 pm\n\nTickets:\n$40 VIP Front Row Seating\n$30 EARLY BIRD in advance online (LIMITED QUANTITY)\n$35 General Admission in advance online\n$40 General Admission at the door\n\nPERFORMERS\n-SHAWN MICHEALZ\n-JAY CARTER\n-BLAKE STEEL\n-ANDY SAVAGE\n\n* MUST BE OF LEGAL DRINKING AGE * BRING YOUR PARTY PANTIES * ALL SALES ARE FINAL
URL:https://www.bodyheat.ca/schedule/3675/
LOCATION:9609-101 street \, Peace River \, AB\, T8S 1J6\, Canada
ATTACH;FMTTYPE=image/jpeg:https://www.bodyheat.ca/wp-content/uploads/2023/02/poster-1.jpg
END:VEVENT
END:VCALENDAR