BEGIN:VCALENDAR
VERSION:2.0
PRODID:-//Body Heat - ECPv4.2.2//NONSGML v1.0//EN
CALSCALE:GREGORIAN
METHOD:PUBLISH
X-WR-CALNAME:Body Heat
X-ORIGINAL-URL:https://www.bodyheat.ca
X-WR-CALDESC:Events for Body Heat
BEGIN:VEVENT
DTSTART;TZID=UTC-6:20231020T210000
DTEND;TZID=UTC-6:20231020T230000
DTSTAMP:20260420T232119
CREATED:20231001T061126
LAST-MODIFIED:20231001T061214
UID:3715-1697835600-1697842800@www.bodyheat.ca
SUMMARY:Brooks - Spin Nightspot
DESCRIPTION:COPY LINK TO GET TICKETS:\nBodyHeatBrooks.eventbrite.ca\n\nDOORS: Open at 7:00 pm Show from 9:00 pm till 11:00 pm\n\nFEATURING:\nShawn Michaelz / Jay Carter / Magic Matty
URL:https://www.bodyheat.ca/schedule/brooks-spin-nightspot/
LOCATION:1217 2nd Street West\, Brooks\, Alberta\, T1R 1P7\, Canada
END:VEVENT
END:VCALENDAR