BEGIN:VCALENDAR
VERSION:2.0
PRODID:-//Body Heat - ECPv4.2.2//NONSGML v1.0//EN
CALSCALE:GREGORIAN
METHOD:PUBLISH
X-WR-CALNAME:Body Heat
X-ORIGINAL-URL:https://www.bodyheat.ca
X-WR-CALDESC:Events for Body Heat
BEGIN:VEVENT
DTSTART;TZID=UTC-7:20250321T180000
DTEND;TZID=UTC-7:20250321T220000
DTSTAMP:20260420T194747
CREATED:20250308T073700
LAST-MODIFIED:20250308T074921
UID:3771-1742580000-1742594400@www.bodyheat.ca
SUMMARY:CALGARY
DESCRIPTION:PRESS THE FUN BUTTON TO GET TICKETS!\n[button open_new_tab="true" color="accent-color" hover_text_color_override="#fff" size="large" url="https://www.showpass.com/ladies-night-calgary/" text="FUN BUTTON" color_override="#e86dd1"]
URL:https://www.bodyheat.ca/schedule/calgary-2/
LOCATION:1420 Meridian Rd NE\, Calgary\, AB\, T2A 2N9\, Canada
ATTACH;FMTTYPE=image/jpeg:https://www.bodyheat.ca/wp-content/uploads/2025/03/cc-bodyheat-1920x1080.jpg
END:VEVENT
END:VCALENDAR