BEGIN:VCALENDAR
VERSION:2.0
PRODID:-//Body Heat - ECPv4.2.2//NONSGML v1.0//EN
CALSCALE:GREGORIAN
METHOD:PUBLISH
X-WR-CALNAME:Body Heat
X-ORIGINAL-URL:https://www.bodyheat.ca
X-WR-CALDESC:Events for Body Heat
BEGIN:VEVENT
DTSTART;TZID=UTC-7:20250613T180000
DTEND;TZID=UTC-7:20250613T220000
DTSTAMP:20260420T194926
CREATED:20250512T015933
LAST-MODIFIED:20250521T225948
UID:3798-1749837600-1749852000@www.bodyheat.ca
SUMMARY:CALGARY\, AB
DESCRIPTION:PRESS THE FUN BUTTON TO GET TICKETS!\n[button open_new_tab="true" color="accent-color" hover_text_color_override="#fff" size="large" url="https://www.showpass.com/ladies-night-calgary-summer-heat/" text="FUN BUTTON" color_override="#e86dd1"]
URL:https://www.bodyheat.ca/schedule/calgary-ab/
LOCATION:1420 Meridian Rd NE\, Calgary\, AB\, T2A 2N9\, Canada
ATTACH;FMTTYPE=image/jpeg:https://www.bodyheat.ca/wp-content/uploads/2025/05/cc-bodyheat-1920x1080.jpg
END:VEVENT
END:VCALENDAR