BEGIN:VCALENDAR
VERSION:2.0
PRODID:-//Body Heat - ECPv4.2.2//NONSGML v1.0//EN
CALSCALE:GREGORIAN
METHOD:PUBLISH
X-WR-CALNAME:Body Heat
X-ORIGINAL-URL:https://www.bodyheat.ca
X-WR-CALDESC:Events for Body Heat
BEGIN:VEVENT
DTSTART;TZID=UTC-6:20231209T180000
DTEND;TZID=UTC-6:20231209T210000
DTSTAMP:20260420T214638
CREATED:20231001T063123
LAST-MODIFIED:20231001T063502
UID:3719-1702144800-1702155600@www.bodyheat.ca
SUMMARY:Calgary - Back Alley
DESCRIPTION:COPY LINK TO GET TICKETS:\nhttps://www.showpass.com/bodyheat2023/\n\nDOORS: Open at 6:00 pm Show from 7:00 pm till 9:00 pm\n\nFEATURING:\nShawn Michaelz / Jay Carter / Magic Matty
URL:https://www.bodyheat.ca/schedule/calgary-back-alley/
LOCATION:4630 Macleod Trail\, Calgary\, Alberta\, T2G 5E8\, Canada
END:VEVENT
END:VCALENDAR