BEGIN:VCALENDAR
VERSION:2.0
PRODID:-//Body Heat - ECPv4.2.2//NONSGML v1.0//EN
CALSCALE:GREGORIAN
METHOD:PUBLISH
X-WR-CALNAME:Body Heat
X-ORIGINAL-URL:https://www.bodyheat.ca
X-WR-CALDESC:Events for Body Heat
BEGIN:VEVENT
DTSTART;TZID=America/Vancouver:20250507T200000
DTEND;TZID=America/Vancouver:20250507T223000
DTSTAMP:20260420T212708
CREATED:20250408T183836
LAST-MODIFIED:20250408T183836
UID:3787-1746648000-1746657000@www.bodyheat.ca
SUMMARY:Chilliwack\, BC
DESCRIPTION:PRESS THE FUN BUTTON TO GET TICKETS!\n[button open_new_tab="true" color="extra-color-3-tilt" hover_text_color_override="#fff" size="large" url="https://www.showpass.com/o/bodyheatcanada" text="FUN BUTTON" color_override="#e86dd1"]
URL:https://www.bodyheat.ca/schedule/chilliwack-bc/
LOCATION:9282 Main St\, Chilliwack\, BC\, V2P 4M5\, Canada
ATTACH;FMTTYPE=image/jpeg:https://www.bodyheat.ca/wp-content/uploads/2025/04/Chilliwack-IG-FEED-size.jpg
END:VEVENT
END:VCALENDAR