BEGIN:VCALENDAR
VERSION:2.0
PRODID:-//Body Heat - ECPv4.2.2//NONSGML v1.0//EN
CALSCALE:GREGORIAN
METHOD:PUBLISH
X-WR-CALNAME:Body Heat
X-ORIGINAL-URL:https://www.bodyheat.ca
X-WR-CALDESC:Events for Body Heat
BEGIN:VEVENT
DTSTART;TZID=UTC-7:20250614T180000
DTEND;TZID=UTC-7:20250614T220000
DTSTAMP:20260420T194932
CREATED:20250512T020119
LAST-MODIFIED:20250521T230046
UID:3799-1749924000-1749938400@www.bodyheat.ca
SUMMARY:EDMONTON\, AB
DESCRIPTION:↓ ↓ ↓ ↓   PRESS THE FUN BUTTON TO GET TICKETS!\n[button open_new_tab="true" color="extra-color-3-tilt" hover_text_color_override="#fff" size="large" url="https://www.showpass.com/ladies-night-edmonton-summer-heat/" text="FUN BUTTON" color_override="#e86dd1"]
URL:https://www.bodyheat.ca/schedule/edmonton-ab-2/
LOCATION:12464 153 St NW\, Edmonton\, AB\, T5V 1S5\, Canada
ATTACH;FMTTYPE=image/jpeg:https://www.bodyheat.ca/wp-content/uploads/2025/05/cy-bodyheat-1920x1080.jpg
END:VEVENT
END:VCALENDAR