BEGIN:VCALENDAR
VERSION:2.0
PRODID:-//Body Heat - ECPv4.2.2//NONSGML v1.0//EN
CALSCALE:GREGORIAN
METHOD:PUBLISH
X-WR-CALNAME:Body Heat
X-ORIGINAL-URL:https://www.bodyheat.ca
X-WR-CALDESC:Events for Body Heat
BEGIN:VEVENT
DTSTART;TZID=America/Edmonton:20260215T193000
DTEND;TZID=America/Edmonton:20260215T213000
DTSTAMP:20260420T182103
CREATED:20251126T054309
LAST-MODIFIED:20260108T210345
UID:3832-1771183800-1771191000@www.bodyheat.ca
SUMMARY:Edmonton\, AB
DESCRIPTION:PRESS THE FUN BUTTON TO GET TICKETS!\n[button open_new_tab="true" color="extra-color-3-tilt" hover_text_color_override="#fff" size="large" url="https://shadeedmonton.com/schlongweekend/" text="FUN BUTTON" color_override="#e86dd1"]
URL:https://www.bodyheat.ca/schedule/edmonton-ab-5/
LOCATION:10148 105 St NW\, Edmonton\, AB\, T5J 1C9\, Canada
ATTACH;FMTTYPE=image/jpeg:https://www.bodyheat.ca/wp-content/uploads/2025/11/IMG_3031.jpeg
END:VEVENT
END:VCALENDAR