BEGIN:VCALENDAR
VERSION:2.0
PRODID:-//Body Heat - ECPv4.2.2//NONSGML v1.0//EN
CALSCALE:GREGORIAN
METHOD:PUBLISH
X-WR-CALNAME:Body Heat
X-ORIGINAL-URL:https://www.bodyheat.ca
X-WR-CALDESC:Events for Body Heat
BEGIN:VEVENT
DTSTART;TZID=UTC+0:20230415T180000
DTEND;TZID=UTC+0:20230415T230000
DTSTAMP:20260420T214353
CREATED:20230403T151426
LAST-MODIFIED:20230403T173629
UID:3679-1681581600-1681599600@www.bodyheat.ca
SUMMARY:Edmonton\, AB
DESCRIPTION:BODY HEAT & HUGH HALFNER\nLadies\, meet your party match with the men of Body Heat. Whether you’re celebrating a bachelorette bash\, birthday party\, girls’ night out\, or just want to heat up your Spring season\, this is a night you need to experience. Be entertained as each sexy performer charms you with his seductive moves. Let your inner flirt out; enjoy games with the guys\, prizes and cheeky humour all night. Body Heat puts on a show that will have you screaming for more. Gather up your girls Saturday\, April 15th\, 2023 and get fired up at Midway Music Hall because these guys are gonna make you melt. Stick around all night to get pictures\, party and hang out with the guys!\n\nDOORS: Open at 6:00 pm  SHOWTIME: From 7:00 pm till 9:30 pm\n \nCOPY LINK TO GET TICKETS: BodyHeatYEG.eventbrite.ca
URL:https://www.bodyheat.ca/schedule/edmonton-ab/
LOCATION:6107 104 St NW\, Edmonton\, Alberta\, T6H 2K8\, Canada
ATTACH;FMTTYPE=image/jpeg:https://www.bodyheat.ca/wp-content/uploads/2023/04/Eventbrite-Midway.jpg
END:VEVENT
END:VCALENDAR