BEGIN:VCALENDAR
VERSION:2.0
PRODID:-//Body Heat - ECPv4.2.2//NONSGML v1.0//EN
CALSCALE:GREGORIAN
METHOD:PUBLISH
X-WR-CALNAME:Body Heat
X-ORIGINAL-URL:https://www.bodyheat.ca
X-WR-CALDESC:Events for Body Heat
BEGIN:VEVENT
DTSTART;TZID=UTC-6:20231019T200000
DTEND;TZID=UTC-6:20231019T230000
DTSTAMP:20260420T215219
CREATED:20231001T060531
LAST-MODIFIED:20231001T060531
UID:3714-1697745600-1697756400@www.bodyheat.ca
SUMMARY:Edmonton - Bunkers Pub
DESCRIPTION:COPY LINK TO GET TICKETS:\nhttps://www.eventbrite.ca/e/body-heat-tickets-716401003687?fbclid=IwAR2635gJMSwIaJLvh04tjnRnjR1b7Zrw--7QOGzSGLDPEqlwSKekPVFkCOQ\n\nDOORS: Open at 8:00 pm Show from 9:30 pm till 11:30 pm\n\nFEATURING:\nShawn Michaelz / Jay Carter / Magic Matty
URL:https://www.bodyheat.ca/schedule/edmonton-bunkers-pub/
LOCATION:615 Hermatitage Road NW\, Edmonton\, AB\, T5A4M2\, Canada
END:VEVENT
END:VCALENDAR