BEGIN:VCALENDAR
VERSION:2.0
PRODID:-//Body Heat - ECPv4.2.2//NONSGML v1.0//EN
CALSCALE:GREGORIAN
METHOD:PUBLISH
X-WR-CALNAME:Body Heat
X-ORIGINAL-URL:https://www.bodyheat.ca
X-WR-CALDESC:Events for Body Heat
BEGIN:VEVENT
DTSTART;VALUE=DATE:20190127
DTEND;VALUE=DATE:20190127
DTSTAMP:20260421T195243
CREATED:20190130
LAST-MODIFIED:20190130
UID:3633-1548547200-1548633599@www.bodyheat.ca
SUMMARY:Edmonton
DESCRIPTION:See our official event on Facebook for more details:\n\nhttps://www.facebook.com/events/295744577732044/
URL:https://www.bodyheat.ca/schedule/edmonton/
LOCATION:6107 104 St NW\, Edmonton\, AB\, T6H 2K8\, Canada
GEO:53.4985039;-113.496641
X-APPLE-STRUCTURED-LOCATION;VALUE=URI;X-ADDRESS=6107 104 St NW Edmonton AB T6H 2K8 Canada;X-APPLE-RADIUS=500;X-TITLE=6107 104 St NW:geo:-113.496641,53.4985039
END:VEVENT
END:VCALENDAR