BEGIN:VCALENDAR
VERSION:2.0
PRODID:-//Body Heat - ECPv4.2.2//NONSGML v1.0//EN
CALSCALE:GREGORIAN
METHOD:PUBLISH
X-WR-CALNAME:Body Heat
X-ORIGINAL-URL:https://www.bodyheat.ca
X-WR-CALDESC:Events for Body Heat
BEGIN:VEVENT
DTSTART;VALUE=DATE:20190126
DTEND;VALUE=DATE:20190126
DTSTAMP:20260421T213815
CREATED:20190130
LAST-MODIFIED:20190130
UID:3631-1548460800-1548547199@www.bodyheat.ca
SUMMARY:Fort McMurray
DESCRIPTION:See our official event on Facebook for all the details:\n\nhttps://www.facebook.com/events/301401320716076/
URL:https://www.bodyheat.ca/schedule/fort-mcmurray/
LOCATION:9713 Hardin St\, Fort McMurray\, AB\, T9H 1L2\, Canada
END:VEVENT
END:VCALENDAR