BEGIN:VCALENDAR
VERSION:2.0
PRODID:-//Body Heat - ECPv4.2.2//NONSGML v1.0//EN
CALSCALE:GREGORIAN
METHOD:PUBLISH
X-WR-CALNAME:Body Heat
X-ORIGINAL-URL:https://www.bodyheat.ca
X-WR-CALDESC:Events for Body Heat
BEGIN:VEVENT
DTSTART;TZID=UTC-7:20240407T170000
DTEND;TZID=UTC-7:20240407T210000
DTSTAMP:20260420T213816
CREATED:20240329T181434
LAST-MODIFIED:20240329T182124
UID:3761-1712509200-1712523600@www.bodyheat.ca
SUMMARY:Grand Forks - The Station Pub
DESCRIPTION:LETS GO!!\n\nDoors Open@ 5:00 pm\nPreshow Activities at 6:30pm\nShowtime from 7:00 pm till 9:00 pm\n\nLETS GO!!\n\n[button open_new_tab="true" color="accent-color" hover_text_color_override="#fff" size="large" url="https://BodyHeatGF.eventbrite.ca" text="BUY TICKETS" color_override=""]\n\n 
URL:https://www.bodyheat.ca/schedule/grand-forks-station-pub/
LOCATION:7654 Donaldson Dr\, Grand Forks\, BC\, V0H 1H2\, Canada
ATTACH;FMTTYPE=image/jpeg:https://www.bodyheat.ca/wp-content/uploads/2024/03/website.jpg
END:VEVENT
END:VCALENDAR