BEGIN:VCALENDAR
VERSION:2.0
PRODID:-//Body Heat - ECPv4.2.2//NONSGML v1.0//EN
CALSCALE:GREGORIAN
METHOD:PUBLISH
X-WR-CALNAME:Body Heat
X-ORIGINAL-URL:https://www.bodyheat.ca
X-WR-CALDESC:Events for Body Heat
BEGIN:VEVENT
DTSTART;TZID=UTC-6:20231013T200000
DTEND;TZID=UTC-6:20231013T233000
DTSTAMP:20260420T232253
CREATED:20231001T055036
LAST-MODIFIED:20231001T055721
UID:3710-1697227200-1697239800@www.bodyheat.ca
SUMMARY:Grande Prairie - Podollan Inn and Spa
DESCRIPTION:COPY LINK TO GET TICKETS:\nBodyHeatGP.eventbrite.ca\n\nDOORS: Open at 8:00 pm Show from 9:30 pm till 11:30 pm\n\nFEATURING:\nShawn Michaelz / Jay Carter / Magic Matty
URL:https://www.bodyheat.ca/schedule/grande-prairie-podollan-inn-spa/
LOCATION:10612 99 Avenue\, Grande Prairie\, AB\, T8V 8E8\, Canada
END:VEVENT
END:VCALENDAR