BEGIN:VCALENDAR
VERSION:2.0
PRODID:-//Body Heat - ECPv4.2.2//NONSGML v1.0//EN
CALSCALE:GREGORIAN
METHOD:PUBLISH
X-WR-CALNAME:Body Heat
X-ORIGINAL-URL:https://www.bodyheat.ca
X-WR-CALDESC:Events for Body Heat
BEGIN:VEVENT
DTSTART;TZID=UTC-7:20250509T200000
DTEND;TZID=UTC-7:20250509T223000
DTSTAMP:20260420T194933
CREATED:20250408T180743
LAST-MODIFIED:20250408T180743
UID:3784-1746820800-1746829800@www.bodyheat.ca
SUMMARY:Kelowna\, BC
DESCRIPTION:PRESS THE FUN BUTTON TO GET TICKETS!\n[button open_new_tab="true" color="extra-color-3-tilt" hover_text_color_override="#fff" size="large" url="https://www.showpass.com/ladies-night-kelowna-spring-fever//" text="FUN BUTTON" color_override="#e86dd1"]
URL:https://www.bodyheat.ca/schedule/kelowna-bc/
LOCATION:1978 Kirschner Rd\, Kelowna\, BC\, V1Y4N6\, Canada
GEO:49.8779831;-119.4589272
X-APPLE-STRUCTURED-LOCATION;VALUE=URI;X-ADDRESS=1978 Kirschner Rd Kelowna BC V1Y4N6 Canada;X-APPLE-RADIUS=500;X-TITLE=1978 Kirschner Rd:geo:-119.4589272,49.8779831
ATTACH;FMTTYPE=image/jpeg:https://www.bodyheat.ca/wp-content/uploads/2025/04/kelowna-IG-FEED-size.jpg
END:VEVENT
END:VCALENDAR