BEGIN:VCALENDAR
VERSION:2.0
PRODID:-//Body Heat - ECPv4.2.2//NONSGML v1.0//EN
CALSCALE:GREGORIAN
METHOD:PUBLISH
X-WR-CALNAME:Body Heat
X-ORIGINAL-URL:https://www.bodyheat.ca
X-WR-CALDESC:Events for Body Heat
BEGIN:VEVENT
DTSTART;TZID=America/Edmonton:20260131T210000
DTEND;TZID=America/Edmonton:20260131T230000
DTSTAMP:20260420T180205
CREATED:20251126T054935
LAST-MODIFIED:20251126T054935
UID:3834-1769893200-1769900400@www.bodyheat.ca
SUMMARY:Kinuso\, AB
DESCRIPTION:PRESS THE FUN BUTTON TO GET TICKETS!\n[button open_new_tab="true" color="extra-color-3-tilt" hover_text_color_override="#fff" size="large" url="PASTE" text="FUN BUTTON" color_override="#e86dd1"]
URL:https://www.bodyheat.ca/schedule/kinuso-ab/
LOCATION:55 Centre St\, Kinuso\, AB\, T0G 1K0\, Canada
ATTACH;FMTTYPE=image/jpeg:https://www.bodyheat.ca/wp-content/uploads/2024/03/website.jpg
END:VEVENT
END:VCALENDAR