BEGIN:VCALENDAR
VERSION:2.0
PRODID:-//Body Heat - ECPv4.2.2//NONSGML v1.0//EN
CALSCALE:GREGORIAN
METHOD:PUBLISH
X-WR-CALNAME:Body Heat
X-ORIGINAL-URL:https://www.bodyheat.ca
X-WR-CALDESC:Events for Body Heat
BEGIN:VEVENT
DTSTART;TZID=UTC-7:20230203T200000
DTEND;TZID=UTC-7:20230203T230000
DTSTAMP:20260420T232221
CREATED:20230126T054910
LAST-MODIFIED:20230126T055328
UID:3667-1675454400-1675465200@www.bodyheat.ca
SUMMARY:Med Hat/Redcliff
DESCRIPTION:BODY HEAT WINTER WARM UP\nLadies\, meet your party match with the men of Body Heat. Whether you’re celebrating a bachelorette bash\, birthday party\, girls’ night out\, or just want to heat up your Winter\, this is a night you need to experience. Be entertained as each sexy performer charms you with his seductive moves. Let your inner flirt out; enjoy games with the guys\, prizes and cheeky humour all night. Body Heat puts on a show that will have you screaming for more. Gather up your girls Friday\, Febuary 3rd\, 2023 and get fired up at The Redcliff Legion because these guys are gonna make you melt.
URL:https://www.bodyheat.ca/schedule/med-hatredcliff/
LOCATION:302 Broadway Ave E\, Redcliff\, AB\, T0J2P0\, Canada
END:VEVENT
END:VCALENDAR