BEGIN:VCALENDAR
VERSION:2.0
PRODID:-//Body Heat - ECPv4.2.2//NONSGML v1.0//EN
CALSCALE:GREGORIAN
METHOD:PUBLISH
X-WR-CALNAME:Body Heat
X-ORIGINAL-URL:https://www.bodyheat.ca
X-WR-CALDESC:Events for Body Heat
BEGIN:VEVENT
DTSTART;VALUE=DATE:20190207
DTEND;VALUE=DATE:20190207
DTSTAMP:20260421T145822
CREATED:20190130
LAST-MODIFIED:20190203
UID:3636-1549497600-1549583999@www.bodyheat.ca
SUMMARY:New Westminster\, BC
DESCRIPTION:Please see full event details on our Facebook event:\n\nhttps://www.facebook.com/events/566355017143779/
URL:https://www.bodyheat.ca/schedule/new-westminster/
LOCATION:27 Church Street\, New Westmnster\, BC\, V3L 2Y6\, Canada
END:VEVENT
END:VCALENDAR