BEGIN:VCALENDAR
VERSION:2.0
PRODID:-//Body Heat - ECPv4.2.2//NONSGML v1.0//EN
CALSCALE:GREGORIAN
METHOD:PUBLISH
X-WR-CALNAME:Body Heat
X-ORIGINAL-URL:https://www.bodyheat.ca
X-WR-CALDESC:Events for Body Heat
BEGIN:VEVENT
DTSTART;TZID=America/Vancouver:20260213T203000
DTEND;TZID=America/Vancouver:20260213T223000
DTSTAMP:20260420T180356
CREATED:20251126T053455
LAST-MODIFIED:20260107T190751
UID:3830-1771014600-1771021800@www.bodyheat.ca
SUMMARY:Prince George\, BC
DESCRIPTION:PRESS THE FUN BUTTON TO GET TICKETS!\n[button open_new_tab="true" color="extra-color-3-tilt" hover_text_color_override="#fff" size="large" url="https://www.showpass.com/ladies-night-prince-george/" text="FUN BUTTON" color_override="#e86dd1"]
URL:https://www.bodyheat.ca/schedule/prince-george-bc-2/
LOCATION:1192 5th Ave\, Prince George\, BC\, V2L 3K9\, Canada
ATTACH;FMTTYPE=image/png:https://www.bodyheat.ca/wp-content/uploads/2025/11/Body-heat-pre-Valentines-event.png
END:VEVENT
END:VCALENDAR