BEGIN:VCALENDAR
VERSION:2.0
PRODID:-//Body Heat - ECPv4.2.2//NONSGML v1.0//EN
CALSCALE:GREGORIAN
METHOD:PUBLISH
X-WR-CALNAME:Body Heat
X-ORIGINAL-URL:https://www.bodyheat.ca
X-WR-CALDESC:Events for Body Heat
BEGIN:VEVENT
DTSTART;VALUE=DATE:20190215
DTEND;VALUE=DATE:20190215
DTSTAMP:20260421T092035
CREATED:20190203
LAST-MODIFIED:20190203
UID:3643-1550188800-1550275199@www.bodyheat.ca
SUMMARY:Prince George\, BC
DESCRIPTION:Please see our official Facebook event for more details:\n\nhttps://www.facebook.com/events/1115415291950710/
URL:https://www.bodyheat.ca/schedule/prince-george-bc/
LOCATION:1201 1 Ave\, Prince George\, BC\, V2L2Y7\, Canada
GEO:53.9184643;-122.7433898
X-APPLE-STRUCTURED-LOCATION;VALUE=URI;X-ADDRESS=1201 1 Ave Prince George BC V2L2Y7 Canada;X-APPLE-RADIUS=500;X-TITLE=1201 1 Ave:geo:-122.7433898,53.9184643
END:VEVENT
END:VCALENDAR