BEGIN:VCALENDAR
VERSION:2.0
PRODID:-//Body Heat - ECPv4.2.2//NONSGML v1.0//EN
CALSCALE:GREGORIAN
METHOD:PUBLISH
X-WR-CALNAME:Body Heat
X-ORIGINAL-URL:https://www.bodyheat.ca
X-WR-CALDESC:Events for Body Heat
BEGIN:VEVENT
DTSTART;TZID=UTC-6:20231208T180000
DTEND;TZID=UTC-6:20231208T220000
DTSTAMP:20260420T214650
CREATED:20231018T041202
LAST-MODIFIED:20231018T041202
UID:3723-1702058400-1702072800@www.bodyheat.ca
SUMMARY:Red Deer - Baymont Inn & Suites
DESCRIPTION:COPY LINK TO GET TICKETS:\nhttps://BodyHeatRD.eventbrite.ca\nDOORS: Open at 6:00 pm Show from 8:00 pm till 10:00 pm\n\nFEATURING:\nShawn Michaelz / Jay Carter / Magic Matty
URL:https://www.bodyheat.ca/schedule/red-deer-baymont-inn-suites/
LOCATION:4311 49 Ave\, Red Deer\, Alberta\, T4N 5Y7\, Canada
END:VEVENT
END:VCALENDAR