BEGIN:VCALENDAR
VERSION:2.0
PRODID:-//Body Heat - ECPv4.2.2//NONSGML v1.0//EN
CALSCALE:GREGORIAN
METHOD:PUBLISH
X-WR-CALNAME:Body Heat
X-ORIGINAL-URL:https://www.bodyheat.ca
X-WR-CALDESC:Events for Body Heat
BEGIN:VEVENT
DTSTART;VALUE=DATE:20190222
DTEND;VALUE=DATE:20190224
DTSTAMP:20260421T041055
CREATED:20190203
LAST-MODIFIED:20190204
UID:3650-1550793600-1551052799@www.bodyheat.ca
SUMMARY:Regina Taboo Show
DESCRIPTION:Please see our official Facebook event for more details:\n\nhttps://www.facebook.com/events/789641651428269/
URL:https://www.bodyheat.ca/schedule/regina-taboo-show/
LOCATION:200A Lakeshore Drive\, Regina\, BC\, S4S 7L3\, Canada
END:VEVENT
END:VCALENDAR