BEGIN:VCALENDAR
VERSION:2.0
PRODID:-//Body Heat - ECPv4.2.2//NONSGML v1.0//EN
CALSCALE:GREGORIAN
METHOD:PUBLISH
X-WR-CALNAME:Body Heat
X-ORIGINAL-URL:https://www.bodyheat.ca
X-WR-CALDESC:Events for Body Heat
BEGIN:VEVENT
DTSTART;TZID=UTC+0:20230420T183000
DTEND;TZID=UTC+0:20230420T220000
DTSTAMP:20260420T214450
CREATED:20230418T183506
LAST-MODIFIED:20230418T183652
UID:3694-1682015400-1682028000@www.bodyheat.ca
SUMMARY:Strathmore\, AB
DESCRIPTION:Canada’s hottest exotic male entertainers – the men of Body Heat travel across Canada to put on the ultimate Ladies’ Night show. You wanted bigger and better and we made it happen for Thursday\, April 20th\, 2023 so you and your friends can get some action in the LP building @ Strathmore Rodeo Grounds. Each sexy performer embodies a different female fantasy and brings your wildest dreams to reality. You wont be able to contain your enthusiasm for their choreographed dance routines and seductive moves. This interactive show is sure to be a a night to remember with games\, prizes \, playful humour and of course\, muscled men!!\nDoors Open@ 6:30 pm\nPreshow Activities at 7:30pm\nShowtime from 8:00 pm - 10:00pm\n\nTickets:\n$35 General Admission in advance online (buying tickets in advance online allows us to ensure adequate bar staff and seating arrangements)\n$50 General Admission at the door on the night of the event\n\nCOPY LINK TO GET TICKETS ONLINE: https://BodyHeatStrathmore.eventbrite.ca
URL:https://www.bodyheat.ca/schedule/strathmore-ab-2/
LOCATION:33 Wheatland Trail\, Strathmore\, AB\, T1P 1X3\, Canada
ATTACH;FMTTYPE=image/jpeg:https://www.bodyheat.ca/wp-content/uploads/2023/04/Eventbrite4.jpg
END:VEVENT
END:VCALENDAR