BEGIN:VCALENDAR
VERSION:2.0
PRODID:-//Body Heat - ECPv4.2.2//NONSGML v1.0//EN
CALSCALE:GREGORIAN
METHOD:PUBLISH
X-WR-CALNAME:Body Heat
X-ORIGINAL-URL:https://www.bodyheat.ca
X-WR-CALDESC:Events for Body Heat
BEGIN:VEVENT
DTSTART;VALUE=DATE:20190208
DTEND;VALUE=DATE:20190210
DTSTAMP:20260421T143540
CREATED:20190203
LAST-MODIFIED:20190204
UID:3648-1549584000-1549843199@www.bodyheat.ca
SUMMARY:Vancouver Taboo Show
DESCRIPTION:Please see our official Facebook event for more details:\n\nhttps://www.facebook.com/events/2287340674856506/
URL:https://www.bodyheat.ca/schedule/vancouver-taboo-show/
LOCATION:East Building Hall B & C     999 Canada Place \, Vancouver\, BC\, V6C 3T4\, Canada
END:VEVENT
END:VCALENDAR